BEGIN:VCALENDAR
VERSION:2.0
PRODID:-//hacksw/handcal//NONSGML v1.0//EN
CALSCALE:GREGORIAN
BEGIN:VEVENT
DTSTART:20191113T080000
DTEND:20191113T090000
UID:60f6104ab4e38
DTSTAMP:20210719T235242
LOCATION:ECCL Luxembourg
DESCRIPTION:
SUMMARY:Registration & Breakfast
END:VEVENT
END:VCALENDAR

