BEGIN:VCALENDAR
VERSION:2.0
PRODID:-//hacksw/handcal//NONSGML v1.0//EN
CALSCALE:GREGORIAN
BEGIN:VEVENT
DTSTART:20191113T090000
DTEND:20191113T092000
UID:5f325a03257a5
DTSTAMP:20200811T084243
LOCATION:ECCL Luxembourg
DESCRIPTION:
SUMMARY:Opening Remarks
END:VEVENT
END:VCALENDAR

