BEGIN:VCALENDAR
VERSION:2.0
PRODID:-//hacksw/handcal//NONSGML v1.0//EN
CALSCALE:GREGORIAN
BEGIN:VEVENT
DTSTART:20191113T123000
DTEND:20191113T133000
UID:60f6105dc684b
DTSTAMP:20210719T235301
LOCATION:ECCL Luxembourg
DESCRIPTION:
SUMMARY:Lunch
END:VEVENT
END:VCALENDAR

