BEGIN:VCALENDAR
VERSION:2.0
PRODID:-//hacksw/handcal//NONSGML v1.0//EN
CALSCALE:GREGORIAN
BEGIN:VEVENT
DTSTART:20191113T133000
DTEND:20191113T133500
UID:60f6105f99da8
DTSTAMP:20210719T235303
LOCATION:ECCL Luxembourg
DESCRIPTION:
SUMMARY:Afternoon session curated by the Financial Times - Opening Remarks
END:VEVENT
END:VCALENDAR

