BEGIN:VCALENDAR
VERSION:2.0
PRODID:-//hacksw/handcal//NONSGML v1.0//EN
CALSCALE:GREGORIAN
BEGIN:VEVENT
DTSTART:20191113T135500
DTEND:20191113T143500
UID:60f6106190fde
DTSTAMP:20210719T235305
LOCATION:ECCL Luxembourg
DESCRIPTION:Reusable rockets and a sharp reduction in launch costs have made it easier and cheaper to deploy assets into orbit\, and activity is building as more entrepreneurs and innovators enter the commercial space race. Global demand for connectivity and data has helped to fuel the space economy and drive private investment to new heights. But how sustainable is the current boom and what are the expectations for future growth? How are the trends evolving and shaping the market?  In a sector dominated by the US\, what are Europe’s strengths and where are we likely to see the most progress from entrepreneur-led businesses?  What policies and models are needed to boost Europe’s role in the global industry?  In what ways are attitudes to space tech investment changing and which areas are set to attract the next wave of capital?
SUMMARY:Panel Discussion: The business of space and the climate for investment 
END:VEVENT
END:VCALENDAR

