BEGIN:VCALENDAR
VERSION:2.0
PRODID:-//hacksw/handcal//NONSGML v1.0//EN
CALSCALE:GREGORIAN
BEGIN:VEVENT
DTSTART:20191113T143500
DTEND:20191113T151500
UID:60f610637ea23
DTSTAMP:20210719T235307
LOCATION:ECCL Luxembourg
DESCRIPTION:Lured by the promise of a trillion dollar industry\, a rising number of investors are taking a bullish approach to a range of space technologies. However\, with high rates of failure and few companies attracting revenues let alone making profits\, space is still viewed by many as a risky business. In this session we will hear from leading investors and learn about the challenges they face\, their attitudes to risk and the opportunities that are exciting them most in Europe’s new space age. As the appetite for space grows\, what are investors looking for in start-up ventures and how do they assess the potential and value proposition of entrepreneur-led businesses? How are existing angel\, venture and equity investments maturing\, and what have been the most significant exits? Can we expect more companies to go public? What is the outlook for space tech funds? With the move to responsible investing\, how does space fit into portfolios and align with ESG strategies?

SUMMARY:Investors’ Panel: Balancing risk and opportunity – How to capture value in the space industry
END:VEVENT
END:VCALENDAR

