BEGIN:VCALENDAR
VERSION:2.0
PRODID:-//hacksw/handcal//NONSGML v1.0//EN
CALSCALE:GREGORIAN
BEGIN:VEVENT
DTSTART:20191113T151500
DTEND:20191113T153500
UID:60f610659fd64
DTSTAMP:20210719T235309
LOCATION:ECCL Luxembourg
DESCRIPTION:In this interactive panel\, heads and senior officials of space agencies will take questions from the audience on the topic of the economic development of the Moon.
SUMMARY:Fireside chat: The future of Spacs in space
END:VEVENT
END:VCALENDAR

