BEGIN:VCALENDAR
VERSION:2.0
PRODID:-//hacksw/handcal//NONSGML v1.0//EN
CALSCALE:GREGORIAN
BEGIN:VEVENT
DTSTART:20191113T153500
DTEND:20191113T160000
UID:60f61067a14b4
DTSTAMP:20210719T235311
LOCATION:ECCL Luxembourg
DESCRIPTION:
SUMMARY:Coffee
END:VEVENT
END:VCALENDAR

