BEGIN:VCALENDAR
VERSION:2.0
PRODID:-//hacksw/handcal//NONSGML v1.0//EN
CALSCALE:GREGORIAN
BEGIN:VEVENT
DTSTART:20191113T160000
DTEND:20191113T164000
UID:60f610699cb40
DTSTAMP:20210719T235313
LOCATION:ECCL Luxembourg
DESCRIPTION:Growing competition is challenging the ability of space start-ups and innovators to scale up and access markets\, especially given the uncertainties and capital intensity of development. Here the spotlight will be on the next generation of space tech leaders as they discuss funding and their experiences in finding a route to commercial viability.  What success have European start-ups and entrepreneurs had in attracting private equity and venture capital? How can innovators demonstrate what their technologies and businesses offer in terms of impact\, scalability and potential returns?
SUMMARY:Entrepreneur Panel:  Financing and the road to commercial viability
END:VEVENT
END:VCALENDAR

