BEGIN:VCALENDAR
VERSION:2.0
PRODID:-//hacksw/handcal//NONSGML v1.0//EN
CALSCALE:GREGORIAN
BEGIN:VEVENT
DTSTART:20191113T164000
DTEND:20191113T170000
UID:60f6106ba5289
DTSTAMP:20210719T235315
LOCATION:ECCL Luxembourg
DESCRIPTION:
SUMMARY:Interview: A view from the US
END:VEVENT
END:VCALENDAR

