BEGIN:VCALENDAR
VERSION:2.0
PRODID:-//hacksw/handcal//NONSGML v1.0//EN
CALSCALE:GREGORIAN
BEGIN:VEVENT
DTSTART:20191113T170000
DTEND:20191113T173000
UID:60f6106d88b45
DTSTAMP:20210719T235317
LOCATION:ECCL Luxembourg
DESCRIPTION:New space activities and advances in technology are giving rise to increasingly complex and wide-ranging risk management and insurance requirements. What steps have been taken to improve the understanding of the intricacies of space risk and how can insurance help drive innovation and support investment and growth?  What frameworks\, coverage and models are needed in this rapidly changing and unpredictable sector? 
SUMMARY:Special Focus: New Space and insurance
END:VEVENT
END:VCALENDAR

