BEGIN:VCALENDAR
VERSION:2.0
PRODID:-//hacksw/handcal//NONSGML v1.0//EN
CALSCALE:GREGORIAN
BEGIN:VEVENT
DTSTART:20191113T173000
DTEND:20191113T181500
UID:60f6106f58f16
DTSTAMP:20210719T235319
LOCATION:ECCL Luxembourg
DESCRIPTION:
SUMMARY:Pitch competition
END:VEVENT
END:VCALENDAR

