BEGIN:VCALENDAR
VERSION:2.0
PRODID:-//hacksw/handcal//NONSGML v1.0//EN
CALSCALE:GREGORIAN
BEGIN:VEVENT
DTSTART:20191113T090500
DTEND:20191113T092000
UID:60f6104e8b76f
DTSTAMP:20210719T235246
LOCATION:ECCL Luxembourg
DESCRIPTION:
SUMMARY:Opening remarks “Global connectivity” and latest updates from Lux space sector\, Franz Fayot\, Minister of the Economy Luxembourg
END:VEVENT
END:VCALENDAR

