BEGIN:VCALENDAR
VERSION:2.0
PRODID:-//hacksw/handcal//NONSGML v1.0//EN
CALSCALE:GREGORIAN
BEGIN:VEVENT
DTSTART:20191113T094000
DTEND:20191113T100000
UID:5f325a081131f
DTSTAMP:20200811T084248
LOCATION:ECCL Luxembourg
DESCRIPTION:
SUMMARY:TenX: How to make money in the most unique economic times 
END:VEVENT
END:VCALENDAR

