BEGIN:VCALENDAR
VERSION:2.0
PRODID:-//hacksw/handcal//NONSGML v1.0//EN
CALSCALE:GREGORIAN
BEGIN:VEVENT
DTSTART:20191113T094000
DTEND:20191113T100000
UID:60f610526a317
DTSTAMP:20210719T235250
LOCATION:ECCL Luxembourg
DESCRIPTION:Boosting commercialization for a dynamic space economy in Europe : The ESA standpoint.
SUMMARY:Keynote by Josef Aschbacher\, Director General of ESA
END:VEVENT
END:VCALENDAR

