BEGIN:VCALENDAR
VERSION:2.0
PRODID:-//hacksw/handcal//NONSGML v1.0//EN
CALSCALE:GREGORIAN
BEGIN:VEVENT
DTSTART:20191113T100000
DTEND:20191113T104500
UID:60f610546945a
DTSTAMP:20210719T235252
LOCATION:ECCL Luxembourg
DESCRIPTION:Economics of LEO (mega) constellations for the Telecom\, Earth Observation and other applications: describing the potential of Space for Earth 
SUMMARY:Panel 1 – The Economics of Space for Earth 
END:VEVENT
END:VCALENDAR

