BEGIN:VCALENDAR
VERSION:2.0
PRODID:-//hacksw/handcal//NONSGML v1.0//EN
CALSCALE:GREGORIAN
BEGIN:VEVENT
DTSTART:20191113T104500
DTEND:20191113T110500
UID:60f6105665dd3
DTSTAMP:20210719T235254
LOCATION:ECCL Luxembourg
DESCRIPTION:
SUMMARY:Keynote Speech (tbc)
END:VEVENT
END:VCALENDAR

