BEGIN:VCALENDAR
VERSION:2.0
PRODID:-//hacksw/handcal//NONSGML v1.0//EN
CALSCALE:GREGORIAN
BEGIN:VEVENT
DTSTART:20191113T110500
DTEND:20191113T112000
UID:60f61058356a1
DTSTAMP:20210719T235256
LOCATION:ECCL Luxembourg
DESCRIPTION:
SUMMARY:Networking & Coffee Break
END:VEVENT
END:VCALENDAR

