BEGIN:VCALENDAR
VERSION:2.0
PRODID:-//hacksw/handcal//NONSGML v1.0//EN
CALSCALE:GREGORIAN
BEGIN:VEVENT
DTSTART:20191113T112000
DTEND:20191113T120000
UID:60f6105a0ab81
DTSTAMP:20210719T235258
LOCATION:ECCL Luxembourg
DESCRIPTION:Panel moderated by the European Space Policy Institute (ESPI)
SUMMARY:Panel 2 – Space Debris & Space Security / Space Traffic Management 
END:VEVENT
END:VCALENDAR

