BEGIN:VCALENDAR
VERSION:2.0
PRODID:-//hacksw/handcal//NONSGML v1.0//EN
CALSCALE:GREGORIAN
BEGIN:VEVENT
DTSTART:20191113T115000
DTEND:20191113T001000
UID:5f325a16e89e4
DTSTAMP:20200811T084302
LOCATION:ECCL Luxembourg
DESCRIPTION:
SUMMARY:Innovation in Earth Observation - New Business Models and Capitalization
END:VEVENT
END:VCALENDAR

