BEGIN:VCALENDAR
VERSION:2.0
PRODID:-//hacksw/handcal//NONSGML v1.0//EN
CALSCALE:GREGORIAN
BEGIN:VEVENT
DTSTART:20191114T153000
DTEND:20191114T160000
UID:5f325a5f7fa43
DTSTAMP:20200811T084415
LOCATION:ECCL Luxembourg
DESCRIPTION:
SUMMARY:Networking Break
END:VEVENT
END:VCALENDAR

