BEGIN:VCALENDAR
VERSION:2.0
PRODID:-//hacksw/handcal//NONSGML v1.0//EN
CALSCALE:GREGORIAN
BEGIN:VEVENT
DTSTART:20191114T160000
DTEND:20191114T170000
UID:5f325a61e3b64
DTSTAMP:20200811T084417
LOCATION:ECCL Luxembourg
DESCRIPTION:
SUMMARY:Panel: Earth Orbit Economy
END:VEVENT
END:VCALENDAR

