BEGIN:VCALENDAR
VERSION:2.0
PRODID:-//hacksw/handcal//NONSGML v1.0//EN
CALSCALE:GREGORIAN
BEGIN:VEVENT
DTSTART:20191114T092000
DTEND:20191114T094000
UID:5f325a3c717a2
DTSTAMP:20200811T084340
LOCATION:ECCL Luxembourg
DESCRIPTION:
SUMMARY:Opportunities and challenges of exporting the low-cost revolution beyond LEO
END:VEVENT
END:VCALENDAR

