BEGIN:VCALENDAR
VERSION:2.0
PRODID:-//hacksw/handcal//NONSGML v1.0//EN
CALSCALE:GREGORIAN
BEGIN:VEVENT
DTSTART:20191114T094000
DTEND:20191114T100000
UID:5f325a3f001cd
DTSTAMP:20200811T084343
LOCATION:ECCL Luxembourg
DESCRIPTION:
SUMMARY:Driving Momentum
END:VEVENT
END:VCALENDAR

