BEGIN:VCALENDAR
VERSION:2.0
PRODID:-//hacksw/handcal//NONSGML v1.0//EN
CALSCALE:GREGORIAN
BEGIN:VEVENT
DTSTART:20191114T115000
DTEND:20191114T001000
UID:5f325a4da54fa
DTSTAMP:20200811T084357
LOCATION:ECCL Luxembourg
DESCRIPTION:
SUMMARY:The importance of anchor customers
END:VEVENT
END:VCALENDAR

